BEGIN:VCALENDAR
VERSION:1.0
PRDID:RBC Web Calendar
METHD:PUBLISH
TZ:-08
BEGIN:VEVENT
DTSTART:20260424T023000
DTEND:19691231T140000
LOCATION:9 Holyrood Drive, Vermont
TRANSP:PAQUE
UUID:0.93011900 1777049459
DTSTAMP:20260424T165059
SUMMARY:Bekdon Richards Real Estate - Inspection
DESCRIPTION;ENCODING=QUOTED-PRINTABLE: Inspection Time for Vermont property
BEGIN:VALARM
TRIGGER:PT15M
ACTIN:DISPLAY
END:VALARM
END:VEVENT
END:VCALENDAR
