BEGIN:VCALENDAR
VERSION:1.0
PRDID:RBC Web Calendar
METHD:PUBLISH
TZ:-08
BEGIN:VEVENT
DTSTART:20260424T010000
LOCATION:51 Chrystobel Crescent, Hawthorn
TRANSP:PAQUE
UUID:0.92643900 1777050102
DTSTAMP:20260424T170142
SUMMARY:Bekdon Richards Real Estate - Auction
DESCRIPTION;ENCODING=QUOTED-PRINTABLE: Auction Time for Hawthorn property
BEGIN:VALARM
TRIGGER:PT15M
ACTIN:DISPLAY
END:VALARM
END:VEVENT
END:VCALENDAR
