BEGIN:VCALENDAR
VERSION:1.0
PRDID:RBC Web Calendar
METHD:PUBLISH
TZ:-08
BEGIN:VEVENT
DTSTART:20260424T043000
DTEND:19691231T140000
LOCATION:33 Boronia Grove, Doncaster East
TRANSP:PAQUE
UUID:0.14293500 1777049482
DTSTAMP:20260424T165122
SUMMARY:Bekdon Richards Real Estate - Inspection
DESCRIPTION;ENCODING=QUOTED-PRINTABLE: Inspection Time for Doncaster East property
BEGIN:VALARM
TRIGGER:PT15M
ACTIN:DISPLAY
END:VALARM
END:VEVENT
END:VCALENDAR
