BEGIN:VCALENDAR
VERSION:1.0
PRDID:RBC Web Calendar
METHD:PUBLISH
TZ:-08
BEGIN:VEVENT
DTSTART:20260424T003000
DTEND:19691231T140000
LOCATION:45 Edgevale Road, Kew
TRANSP:PAQUE
UUID:0.00458200 1777049483
DTSTAMP:20260424T165123
SUMMARY:Bekdon Richards Real Estate - Inspection
DESCRIPTION;ENCODING=QUOTED-PRINTABLE: Inspection Time for Kew property
BEGIN:VALARM
TRIGGER:PT15M
ACTIN:DISPLAY
END:VALARM
END:VEVENT
END:VCALENDAR
